BEGIN:VCALENDAR
VERSION:2.0
PRODID:-//T.C. İstanbul Şişli Meslek Yüksekokulu
CALSCALE:GREGORIAN
METHOD:PUBLISH
X-WR-CALNAME:T.C. İstanbul Şişli Meslek Yüksekokulu
X-ORIGINAL-URL:https://www.sisli.edu.tr/paylasim/guvenli-surus-guvenli-gelecek/
X-WR-CALDESC:Güvenli Sürüş, Güvenli Gelecek
BEGIN:VEVENT
DTSTART:20251217T000000
DTEND:
SUMMARY:Güvenli Sürüş, Güvenli Gelecek
DESCRIPTION:
LOCATION:
END:VEVENT
END:VCALENDAR
