BEGIN:VCALENDAR
VERSION:2.0
PRODID:-//T.C. İstanbul Şişli Meslek Yüksekokulu
CALSCALE:GREGORIAN
METHOD:PUBLISH
X-WR-CALNAME:T.C. İstanbul Şişli Meslek Yüksekokulu
X-ORIGINAL-URL:https://www.sisli.edu.tr/paylasim/e-ticaret-ve-dijital-ticaret/
X-WR-CALDESC:E-Ticaret ve Dijital Ticaret
BEGIN:VEVENT
DTSTART:20251217T000000
DTEND:
SUMMARY:E-Ticaret ve Dijital Ticaret
DESCRIPTION:
LOCATION:
END:VEVENT
END:VCALENDAR
