BEGIN:VCALENDAR
VERSION:2.0
PRODID:-//T.C. İstanbul Şişli Meslek Yüksekokulu
CALSCALE:GREGORIAN
METHOD:PUBLISH
X-WR-CALNAME:T.C. İstanbul Şişli Meslek Yüksekokulu
X-ORIGINAL-URL:https://www.sisli.edu.tr/paylasim/hayata-renk-ver-dernegi-ile-isbirligi-protokolu/
X-WR-CALDESC:Hayata Renk Ver Derneği İle İşbirliği Protokolü
BEGIN:VEVENT
DTSTART:20251210T000000
DTEND:
SUMMARY:Hayata Renk Ver Derneği İle İşbirliği Protokolü
DESCRIPTION:
LOCATION:
END:VEVENT
END:VCALENDAR
