BEGIN:VCALENDAR
VERSION:2.0
PRODID:-//T.C. İstanbul Şişli Meslek Yüksekokulu
CALSCALE:GREGORIAN
METHOD:PUBLISH
X-WR-CALNAME:T.C. İstanbul Şişli Meslek Yüksekokulu
X-ORIGINAL-URL:https://www.sisli.edu.tr/paylasim/aralik-ayi-etkinlik-takvimi/
X-WR-CALDESC:ARALIK AYI ETKİNLİK TAKVİMİ 1-31 ARALIK
BEGIN:VEVENT
DTSTART:20251231T000000
DTEND:
SUMMARY:ARALIK AYI ETKİNLİK TAKVİMİ 1-31 ARALIK
DESCRIPTION:
LOCATION:
END:VEVENT
END:VCALENDAR
