BEGIN:VCALENDAR
VERSION:2.0
PRODID:-//T.C. İstanbul Şişli Meslek Yüksekokulu
CALSCALE:GREGORIAN
METHOD:PUBLISH
X-WR-CALNAME:T.C. İstanbul Şişli Meslek Yüksekokulu
X-ORIGINAL-URL:https://www.sisli.edu.tr/paylasim/2025-2026-egitim-ogretim-yili-guz-yariyili-ara-sinav-mazeret-sinavi-basvuru-degerlendirme-sonuclari-ve-sinav-tarihleri/
X-WR-CALDESC:2025-2026 Eğitim-Öğretim Yılı Güz Yarıyılı Ara Sınav Mazeret Sınavı Başvuru Değerlendirme Sonuçları ve Sınav Tarihleri
BEGIN:VEVENT
DTSTART:20251128T000000
DTEND:
SUMMARY:2025-2026 Eğitim-Öğretim Yılı Güz Yarıyılı Ara Sınav Mazeret Sınavı Başvuru Değerlendirme Sonuçları ve Sınav Tarihleri
DESCRIPTION:
LOCATION:
END:VEVENT
END:VCALENDAR
