BEGIN:VCALENDAR
VERSION:2.0
PRODID:-//T.C. İstanbul Şişli Meslek Yüksekokulu
CALSCALE:GREGORIAN
METHOD:PUBLISH
X-WR-CALNAME:T.C. İstanbul Şişli Meslek Yüksekokulu
X-ORIGINAL-URL:https://www.sisli.edu.tr/paylasim/dis-ticaret-kulubu-ogrencilerimiz-logitrans-fuarinda/
X-WR-CALDESC:Dış Ticaret Kulübü Öğrencilerimiz Logitrans Fuarı’nda
BEGIN:VEVENT
DTSTART:20251121T000000
DTEND:
SUMMARY:Dış Ticaret Kulübü Öğrencilerimiz Logitrans Fuarı’nda
DESCRIPTION:
LOCATION:
END:VEVENT
END:VCALENDAR
