BEGIN:VCALENDAR
VERSION:2.0
PRODID:-//T.C. İstanbul Şişli Meslek Yüksekokulu
CALSCALE:GREGORIAN
METHOD:PUBLISH
X-WR-CALNAME:T.C. İstanbul Şişli Meslek Yüksekokulu
X-ORIGINAL-URL:https://www.sisli.edu.tr/paylasim/otobus-satisi-ihalesi/
X-WR-CALDESC:OTOBÜS SATIŞI İHALESİ
BEGIN:VEVENT
DTSTART:20251119T003000
DTEND:
SUMMARY:OTOBÜS SATIŞI İHALESİ
DESCRIPTION:
LOCATION:
END:VEVENT
END:VCALENDAR
