BEGIN:VCALENDAR
VERSION:2.0
PRODID:-//T.C. İstanbul Şişli Meslek Yüksekokulu
CALSCALE:GREGORIAN
METHOD:PUBLISH
X-WR-CALNAME:T.C. İstanbul Şişli Meslek Yüksekokulu
X-ORIGINAL-URL:https://www.sisli.edu.tr/paylasim/tdl1001-turk-dili-i-dersi-ara-sinavinin-tekrari-ii-ogretim-15-11-2025-18-00-sinavi/
X-WR-CALDESC:TDL1001 Türk Dili I Dersi Ara Sınavının Tekrarı (II.Öğretim -15.11.2025 / 18.00 Sınavı)
BEGIN:VEVENT
DTSTART:20251117T000000
DTEND:
SUMMARY:TDL1001 Türk Dili I Dersi Ara Sınavının Tekrarı (II.Öğretim -15.11.2025 / 18.00 Sınavı)
DESCRIPTION:
LOCATION:
END:VEVENT
END:VCALENDAR
