BEGIN:VCALENDAR
VERSION:2.0
PRODID:-//T.C. İstanbul Şişli Meslek Yüksekokulu
CALSCALE:GREGORIAN
METHOD:PUBLISH
X-WR-CALNAME:T.C. İstanbul Şişli Meslek Yüksekokulu
X-ORIGINAL-URL:https://www.sisli.edu.tr/paylasim/karanlik-oda-projesi-ile-farkindalik-kazandik/
X-WR-CALDESC:“Karanlık Oda” Projesi ile Farkındalık Kazandık
BEGIN:VEVENT
DTSTART:20251022T000000
DTEND:
SUMMARY:“Karanlık Oda” Projesi ile Farkındalık Kazandık
DESCRIPTION:
LOCATION:
END:VEVENT
END:VCALENDAR
