BEGIN:VCALENDAR
VERSION:2.0
PRODID:-//T.C. İstanbul Şişli Meslek Yüksekokulu
CALSCALE:GREGORIAN
METHOD:PUBLISH
X-WR-CALNAME:T.C. İstanbul Şişli Meslek Yüksekokulu
X-ORIGINAL-URL:https://www.sisli.edu.tr/paylasim/erasmus-ile-yeni-kulturler-kesfet-etkinligi/
X-WR-CALDESC:“Erasmus+ ile Yeni Kültürler Keşfet” Etkinliği
BEGIN:VEVENT
DTSTART:20251015T000000
DTEND:
SUMMARY:“Erasmus+ ile Yeni Kültürler Keşfet” Etkinliği
DESCRIPTION:
LOCATION:
END:VEVENT
END:VCALENDAR
