BEGIN:VCALENDAR
VERSION:2.0
PRODID:-//T.C. İstanbul Şişli Meslek Yüksekokulu
CALSCALE:GREGORIAN
METHOD:PUBLISH
X-WR-CALNAME:T.C. İstanbul Şişli Meslek Yüksekokulu
X-ORIGINAL-URL:https://www.sisli.edu.tr/paylasim/somut-olmayan-kulturel-miras-atolyesi/
X-WR-CALDESC:Somut Olmayan Kültürel Miras Atölyesi
BEGIN:VEVENT
DTSTART:20250725T000000
DTEND:
SUMMARY:Somut Olmayan Kültürel Miras Atölyesi
DESCRIPTION:
LOCATION:
END:VEVENT
END:VCALENDAR
