BEGIN:VCALENDAR
VERSION:2.0
PRODID:-//T.C. İstanbul Şişli Meslek Yüksekokulu
CALSCALE:GREGORIAN
METHOD:PUBLISH
X-WR-CALNAME:T.C. İstanbul Şişli Meslek Yüksekokulu
X-ORIGINAL-URL:https://www.sisli.edu.tr/paylasim/cocuk-gelisimi-programindan-bilimsel-yayin-uretimi/
X-WR-CALDESC:Çocuk Gelişimi Programından Bilimsel Yayın Üretimi
BEGIN:VEVENT
DTSTART:20250605T000000
DTEND:
SUMMARY:Çocuk Gelişimi Programından Bilimsel Yayın Üretimi
DESCRIPTION:
LOCATION:
END:VEVENT
END:VCALENDAR
