BEGIN:VCALENDAR
VERSION:2.0
PRODID:-//T.C. İstanbul Şişli Meslek Yüksekokulu
CALSCALE:GREGORIAN
METHOD:PUBLISH
X-WR-CALNAME:T.C. İstanbul Şişli Meslek Yüksekokulu
X-ORIGINAL-URL:https://www.sisli.edu.tr/paylasim/yeni-erasmus-is-birlikleri/
X-WR-CALDESC:Yeni Erasmus+ İş Birlikleri!
BEGIN:VEVENT
DTSTART:20250610T000000
DTEND:
SUMMARY:Yeni Erasmus+ İş Birlikleri!
DESCRIPTION:
LOCATION:
END:VEVENT
END:VCALENDAR
