BEGIN:VCALENDAR
VERSION:2.0
PRODID:-//T.C. İstanbul Şişli Meslek Yüksekokulu
CALSCALE:GREGORIAN
METHOD:PUBLISH
X-WR-CALNAME:T.C. İstanbul Şişli Meslek Yüksekokulu
X-ORIGINAL-URL:https://www.sisli.edu.tr/paylasim/gonullere-dokunan-bir-gun/
X-WR-CALDESC:Gönüllere Dokunan Bir Gün
BEGIN:VEVENT
DTSTART:20250605T000000
DTEND:
SUMMARY:Gönüllere Dokunan Bir Gün
DESCRIPTION:
LOCATION:
END:VEVENT
END:VCALENDAR
