BEGIN:VCALENDAR
VERSION:2.0
PRODID:-//T.C. İstanbul Şişli Meslek Yüksekokulu
CALSCALE:GREGORIAN
METHOD:PUBLISH
X-WR-CALNAME:T.C. İstanbul Şişli Meslek Yüksekokulu
X-ORIGINAL-URL:https://www.sisli.edu.tr/paylasim/dijital-dunya-ve-cocuk-sempozyumuna-katilim/
X-WR-CALDESC:Dijital Dünya ve Çocuk Sempozyumu’na katılım
BEGIN:VEVENT
DTSTART:20250526T000000
DTEND:
SUMMARY:Dijital Dünya ve Çocuk Sempozyumu’na katılım
DESCRIPTION:
LOCATION:
END:VEVENT
END:VCALENDAR
