BEGIN:VCALENDAR
VERSION:2.0
PRODID:-//T.C. İstanbul Şişli Meslek Yüksekokulu
CALSCALE:GREGORIAN
METHOD:PUBLISH
X-WR-CALNAME:T.C. İstanbul Şişli Meslek Yüksekokulu
X-ORIGINAL-URL:https://www.sisli.edu.tr/paylasim/32855-28-03-2025-tarihli-ogretim-elemani-alim-ilani-degerlendirme-sonuclari/
X-WR-CALDESC:32855/28.03.2025 Tarihli Öğretim Elemanı Alım İlanı Değerlendirme Sonuçları
BEGIN:VEVENT
DTSTART:20250424T000000
DTEND:
SUMMARY:32855/28.03.2025 Tarihli Öğretim Elemanı Alım İlanı Değerlendirme Sonuçları
DESCRIPTION:
LOCATION:
END:VEVENT
END:VCALENDAR
