BEGIN:VCALENDAR
VERSION:2.0
PRODID:-//T.C. İstanbul Şişli Meslek Yüksekokulu
CALSCALE:GREGORIAN
METHOD:PUBLISH
X-WR-CALNAME:T.C. İstanbul Şişli Meslek Yüksekokulu
X-ORIGINAL-URL:https://www.sisli.edu.tr/paylasim/akademisyen-ogrenci-is-birligiyle-bilimsel-yayin-basarilari/
X-WR-CALDESC:Akademisyen-Öğrenci İş Birliğiyle Bilimsel Yayın Başarıları
BEGIN:VEVENT
DTSTART:20250422T010000
DTEND:
SUMMARY:Akademisyen-Öğrenci İş Birliğiyle Bilimsel Yayın Başarıları
DESCRIPTION:
LOCATION:
END:VEVENT
END:VCALENDAR
