BEGIN:VCALENDAR
VERSION:2.0
PRODID:-//T.C. İstanbul Şişli Meslek Yüksekokulu
CALSCALE:GREGORIAN
METHOD:PUBLISH
X-WR-CALNAME:T.C. İstanbul Şişli Meslek Yüksekokulu
X-ORIGINAL-URL:https://www.sisli.edu.tr/paylasim/avrupa-projeleri-ve-erasmus-bilgilendirme-soylesisi/
X-WR-CALDESC:Avrupa Projeleri ve Erasmus+ Bilgilendirme Söyleşisi
BEGIN:VEVENT
DTSTART:20250422T000000
DTEND:
SUMMARY:Avrupa Projeleri ve Erasmus+ Bilgilendirme Söyleşisi
DESCRIPTION:
LOCATION:
END:VEVENT
END:VCALENDAR
