BEGIN:VCALENDAR
VERSION:2.0
PRODID:-//T.C. İstanbul Şişli Meslek Yüksekokulu
CALSCALE:GREGORIAN
METHOD:PUBLISH
X-WR-CALNAME:T.C. İstanbul Şişli Meslek Yüksekokulu
X-ORIGINAL-URL:https://www.sisli.edu.tr/paylasim/danisma-kurulu-toplantisi/
X-WR-CALDESC:Danışma Kurulu Toplantısı
BEGIN:VEVENT
DTSTART:20250410T000000
DTEND:
SUMMARY:Danışma Kurulu Toplantısı
DESCRIPTION:
LOCATION:
END:VEVENT
END:VCALENDAR
