BEGIN:VCALENDAR
VERSION:2.0
PRODID:-//T.C. İstanbul Şişli Meslek Yüksekokulu
CALSCALE:GREGORIAN
METHOD:PUBLISH
X-WR-CALNAME:T.C. İstanbul Şişli Meslek Yüksekokulu
X-ORIGINAL-URL:https://www.sisli.edu.tr/paylasim/uluslararasi-vizyon-universitesi-ile-akademik-is-birligi/
X-WR-CALDESC:Uluslararası Vizyon Üniversitesi ile akademik iş birliği
BEGIN:VEVENT
DTSTART:20250408T000000
DTEND:
SUMMARY:Uluslararası Vizyon Üniversitesi ile akademik iş birliği
DESCRIPTION:
LOCATION:
END:VEVENT
END:VCALENDAR
