BEGIN:VCALENDAR
VERSION:2.0
PRODID:-//T.C. İstanbul Şişli Meslek Yüksekokulu
CALSCALE:GREGORIAN
METHOD:PUBLISH
X-WR-CALNAME:T.C. İstanbul Şişli Meslek Yüksekokulu
X-ORIGINAL-URL:https://www.sisli.edu.tr/paylasim/temel-is-sagligi-ve-guvenligi-egitimi/
X-WR-CALDESC:Temel İş Sağlığı ve Güvenliği Eğitimi
BEGIN:VEVENT
DTSTART:20250324T000000
DTEND:
SUMMARY:Temel İş Sağlığı ve Güvenliği Eğitimi
DESCRIPTION:
LOCATION:
END:VEVENT
END:VCALENDAR
