BEGIN:VCALENDAR
VERSION:2.0
PRODID:-//T.C. İstanbul Şişli Meslek Yüksekokulu
CALSCALE:GREGORIAN
METHOD:PUBLISH
X-WR-CALNAME:T.C. İstanbul Şişli Meslek Yüksekokulu
X-ORIGINAL-URL:https://www.sisli.edu.tr/paylasim/toplumsal-katki-ve-ar-ge-komisyonlari-yenilendi/
X-WR-CALDESC:Toplumsal Katkı ve Ar-Ge Komisyonları Yenilendi
BEGIN:VEVENT
DTSTART:20250320T000000
DTEND:
SUMMARY:Toplumsal Katkı ve Ar-Ge Komisyonları Yenilendi
DESCRIPTION:
LOCATION:
END:VEVENT
END:VCALENDAR
