BEGIN:VCALENDAR
VERSION:2.0
PRODID:-//T.C. İstanbul Şişli Meslek Yüksekokulu
CALSCALE:GREGORIAN
METHOD:PUBLISH
X-WR-CALNAME:T.C. İstanbul Şişli Meslek Yüksekokulu
X-ORIGINAL-URL:https://www.sisli.edu.tr/paylasim/2024-2025-egitim-ogretim-yili-bahar-yariyili-eng1002-yabanci-dil-ii-muafiyet-sinavi-sonuclari/
X-WR-CALDESC:2024-2025 Eğitim-Öğretim Yılı Bahar Yarıyılı ENG1002 Yabancı Dil-II Muafiyet Sınavı Sonuçları
BEGIN:VEVENT
DTSTART:20250312T000000
DTEND:
SUMMARY:2024-2025 Eğitim-Öğretim Yılı Bahar Yarıyılı ENG1002 Yabancı Dil-II Muafiyet Sınavı Sonuçları
DESCRIPTION:
LOCATION:
END:VEVENT
END:VCALENDAR
