BEGIN:VCALENDAR
VERSION:2.0
PRODID:-//T.C. İstanbul Şişli Meslek Yüksekokulu
CALSCALE:GREGORIAN
METHOD:PUBLISH
X-WR-CALNAME:T.C. İstanbul Şişli Meslek Yüksekokulu
X-ORIGINAL-URL:https://www.sisli.edu.tr/paylasim/ibb-kultur-mudurlugu-is-birligi-toplantisi/
X-WR-CALDESC:İBB Kültür Müdürlüğü İş Birliği Toplantısı
BEGIN:VEVENT
DTSTART:20250310T010000
DTEND:
SUMMARY:İBB Kültür Müdürlüğü İş Birliği Toplantısı
DESCRIPTION:
LOCATION:
END:VEVENT
END:VCALENDAR
