BEGIN:VCALENDAR
VERSION:2.0
PRODID:-//T.C. İstanbul Şişli Meslek Yüksekokulu
CALSCALE:GREGORIAN
METHOD:PUBLISH
X-WR-CALNAME:T.C. İstanbul Şişli Meslek Yüksekokulu
X-ORIGINAL-URL:https://www.sisli.edu.tr/paylasim/kadinlar-arasinda-kuresel-dayanisma-etkinligi/
X-WR-CALDESC:Kadınlar Arasında Küresel Dayanışma Etkinliği
BEGIN:VEVENT
DTSTART:20250307T000000
DTEND:
SUMMARY:Kadınlar Arasında Küresel Dayanışma Etkinliği
DESCRIPTION:
LOCATION:
END:VEVENT
END:VCALENDAR
