BEGIN:VCALENDAR
VERSION:2.0
PRODID:-//T.C. İstanbul Şişli Meslek Yüksekokulu
CALSCALE:GREGORIAN
METHOD:PUBLISH
X-WR-CALNAME:T.C. İstanbul Şişli Meslek Yüksekokulu
X-ORIGINAL-URL:https://www.sisli.edu.tr/paylasim/ogrenci-kalite-guvence-sistemi-egitimi/
X-WR-CALDESC:ÖĞRENCİ KALİTE GÜVENCE SİSTEMİ EĞİTİMİ
BEGIN:VEVENT
DTSTART:20250317T003000
DTEND:
SUMMARY:ÖĞRENCİ KALİTE GÜVENCE SİSTEMİ EĞİTİMİ
DESCRIPTION:
LOCATION:
END:VEVENT
END:VCALENDAR
