BEGIN:VCALENDAR
VERSION:2.0
PRODID:-//T.C. İstanbul Şişli Meslek Yüksekokulu
CALSCALE:GREGORIAN
METHOD:PUBLISH
X-WR-CALNAME:T.C. İstanbul Şişli Meslek Yüksekokulu
X-ORIGINAL-URL:https://www.sisli.edu.tr/paylasim/sisli-meslek-yuksekokulunda-sosyal-sorumluluk-projesi-toplantisi/
X-WR-CALDESC:Şişli Meslek Yüksekokulunda Sosyal Sorumluluk Projesi Toplantısı
BEGIN:VEVENT
DTSTART:20250225T003000
DTEND:
SUMMARY:Şişli Meslek Yüksekokulunda Sosyal Sorumluluk Projesi Toplantısı
DESCRIPTION:
LOCATION:
END:VEVENT
END:VCALENDAR
