BEGIN:VCALENDAR
VERSION:2.0
PRODID:-//T.C. İstanbul Şişli Meslek Yüksekokulu
CALSCALE:GREGORIAN
METHOD:PUBLISH
X-WR-CALNAME:T.C. İstanbul Şişli Meslek Yüksekokulu
X-ORIGINAL-URL:https://www.sisli.edu.tr/paylasim/11-11-2024-tarihinde-yayimlanan-32719-sayili-ogretim-gorevlisi-on-degerlendirme-sonucu-hk/
X-WR-CALDESC:11-11-2024 tarihinde yayımlanan 32719 sayili Ögretim Görevlisi Ön Değerlendirme sonucu hk.
BEGIN:VEVENT
DTSTART:20241127T000000
DTEND:
SUMMARY:11-11-2024 tarihinde yayımlanan 32719 sayili Ögretim Görevlisi Ön Değerlendirme sonucu hk.
DESCRIPTION:
LOCATION:
END:VEVENT
END:VCALENDAR
