BEGIN:VCALENDAR
VERSION:2.0
PRODID:-//T.C. İstanbul Şişli Meslek Yüksekokulu
CALSCALE:GREGORIAN
METHOD:PUBLISH
X-WR-CALNAME:T.C. İstanbul Şişli Meslek Yüksekokulu
X-ORIGINAL-URL:https://www.sisli.edu.tr/paylasim/2023-2024-egitim-ogretim-yili-guz-yariyili-eng1001-yabanci-dil-i-ve-bil1001-bil1002-bilgi-ve-iletisim-teknolojileri-muafiyet-sinav-sonuclari-hk/
X-WR-CALDESC:2023-2024 Eğitim-Öğretim Yılı Güz Yarıyılı ENG1001 Yabancı Dil-I ve BIL1001-BIL1002 Bilgi ve İletişim Teknolojileri Muafiyet Sınav Sonuçları Hk.
BEGIN:VEVENT
DTSTART:20241101T090000
DTEND:
SUMMARY:2023-2024 Eğitim-Öğretim Yılı Güz Yarıyılı ENG1001 Yabancı Dil-I ve BIL1001-BIL1002 Bilgi ve İletişim Teknolojileri Muafiyet Sınav Sonuçları Hk.
DESCRIPTION:
LOCATION:
END:VEVENT
END:VCALENDAR
