BEGIN:VCALENDAR
VERSION:2.0
PRODID:-//T.C. İstanbul Şişli Meslek Yüksekokulu
CALSCALE:GREGORIAN
METHOD:PUBLISH
X-WR-CALNAME:T.C. İstanbul Şişli Meslek Yüksekokulu
X-ORIGINAL-URL:https://www.sisli.edu.tr/paylasim/2024-2025-egitim-ogretim-yili-hazirlik-programi-ingilizce-seviye-belirleme-sinav-sonuclari-hk/
X-WR-CALDESC:2024-2025 Eğitim-Öğretim Yılı Hazırlık Programı İngilizce Seviye Belirleme Sınav Sonuçları Hk.
BEGIN:VEVENT
DTSTART:20241004T163000
DTEND:
SUMMARY:2024-2025 Eğitim-Öğretim Yılı Hazırlık Programı İngilizce Seviye Belirleme Sınav Sonuçları Hk.
DESCRIPTION:
LOCATION:
END:VEVENT
END:VCALENDAR
