BEGIN:VCALENDAR
VERSION:2.0
PRODID:-//T.C. İstanbul Şişli Meslek Yüksekokulu
CALSCALE:GREGORIAN
METHOD:PUBLISH
X-WR-CALNAME:T.C. İstanbul Şişli Meslek Yüksekokulu
X-ORIGINAL-URL:https://www.sisli.edu.tr/paylasim/2024-2025-yili-t-c-acilis-toreni-programi-duyurusu-hk/
X-WR-CALDESC:2024-2025 Yılı Açılış Töreni Programı Duyurusu Hk.
BEGIN:VEVENT
DTSTART:20241004T000000
DTEND:
SUMMARY:2024-2025 Yılı Açılış Töreni Programı Duyurusu Hk.
DESCRIPTION:
LOCATION:
END:VEVENT
END:VCALENDAR
