BEGIN:VCALENDAR
VERSION:2.0
PRODID:-//T.C. İstanbul Şişli Meslek Yüksekokulu
CALSCALE:GREGORIAN
METHOD:PUBLISH
X-WR-CALNAME:T.C. İstanbul Şişli Meslek Yüksekokulu
X-ORIGINAL-URL:https://www.sisli.edu.tr/paylasim/11-09-2024-tarihinde-yayimlanan-32659-sayili-ogretim-gorevlisi-degerlendirme-sonucu/
X-WR-CALDESC:11.09.2024 Tarihinde Yayımlanan 32659 Sayılı Öğretim Görevlisi Ön Değerlendirme Sonucu
BEGIN:VEVENT
DTSTART:20240927T000000
DTEND:
SUMMARY:11.09.2024 Tarihinde Yayımlanan 32659 Sayılı Öğretim Görevlisi Ön Değerlendirme Sonucu
DESCRIPTION:
LOCATION:
END:VEVENT
END:VCALENDAR
