BEGIN:VCALENDAR
VERSION:2.0
PRODID:-//T.C. İstanbul Şişli Meslek Yüksekokulu
CALSCALE:GREGORIAN
METHOD:PUBLISH
X-WR-CALNAME:T.C. İstanbul Şişli Meslek Yüksekokulu
X-ORIGINAL-URL:https://www.sisli.edu.tr/paylasim/23-09-2024-tarihinde-yayimlanan-32671-sayili-ogretim-gorevlisi-degerlendirme-sonucu/
X-WR-CALDESC:23.09.2024 Tarihinde Yayımlanan 32671 Sayılı Öğretim Görevlisi İlanı
BEGIN:VEVENT
DTSTART:20240923T000000
DTEND:
SUMMARY:23.09.2024 Tarihinde Yayımlanan 32671 Sayılı Öğretim Görevlisi İlanı
DESCRIPTION:
LOCATION:
END:VEVENT
END:VCALENDAR
