BEGIN:VCALENDAR
VERSION:2.0
PRODID:-//T.C. İstanbul Şişli Meslek Yüksekokulu
CALSCALE:GREGORIAN
METHOD:PUBLISH
X-WR-CALNAME:T.C. İstanbul Şişli Meslek Yüksekokulu
X-ORIGINAL-URL:https://www.sisli.edu.tr/paylasim/2024-yks-ek-yerlestirme-ile-yerlesen-ogrencilerin-kesin-kayit-islemleri-hk/
X-WR-CALDESC:2024-YKS Ek Yerleştirme ile Yerleşen Öğrencilerin Kesin Kayıt İşlemleri Hk.
BEGIN:VEVENT
DTSTART:20240919T200000
DTEND:
SUMMARY:2024-YKS Ek Yerleştirme ile Yerleşen Öğrencilerin Kesin Kayıt İşlemleri Hk.
DESCRIPTION:
LOCATION:
END:VEVENT
END:VCALENDAR
