BEGIN:VCALENDAR
VERSION:2.0
PRODID:-//T.C. İstanbul Şişli Meslek Yüksekokulu
CALSCALE:GREGORIAN
METHOD:PUBLISH
X-WR-CALNAME:T.C. İstanbul Şişli Meslek Yüksekokulu
X-ORIGINAL-URL:https://www.sisli.edu.tr/paylasim/7189/
X-WR-CALDESC:2023-2024 Yaz Okulu Final Mazeret Sınavı Başvuru Değerlendirme Sonuçları
BEGIN:VEVENT
DTSTART:20240829T000000
DTEND:
SUMMARY:2023-2024 Yaz Okulu Final Mazeret Sınavı Başvuru Değerlendirme Sonuçları
DESCRIPTION:
LOCATION:
END:VEVENT
END:VCALENDAR
