BEGIN:VCALENDAR
VERSION:2.0
PRODID:-//T.C. İstanbul Şişli Meslek Yüksekokulu
CALSCALE:GREGORIAN
METHOD:PUBLISH
X-WR-CALNAME:T.C. İstanbul Şişli Meslek Yüksekokulu
X-ORIGINAL-URL:https://www.sisli.edu.tr/paylasim/08-08-2024-tarihinde-yayimlanan-32626-sayili-ogretim-gorevlisi-degerlendirme-sonucu/
X-WR-CALDESC:08.08.2024 Tarihinde Yayımlanan 32626 Sayılı Öğretim Görevlisi Değerlendirme Sonucu
BEGIN:VEVENT
DTSTART:20240828T000000
DTEND:
SUMMARY:08.08.2024 Tarihinde Yayımlanan 32626 Sayılı Öğretim Görevlisi Değerlendirme Sonucu
DESCRIPTION:
LOCATION:
END:VEVENT
END:VCALENDAR
