BEGIN:VCALENDAR
VERSION:2.0
PRODID:-//T.C. İstanbul Şişli Meslek Yüksekokulu
CALSCALE:GREGORIAN
METHOD:PUBLISH
X-WR-CALNAME:T.C. İstanbul Şişli Meslek Yüksekokulu
X-ORIGINAL-URL:https://www.sisli.edu.tr/paylasim/2-6-eylul-2024-kayit-yenileme-islemleri/
X-WR-CALDESC:2-6 Eylül 2024 Kayıt Yenileme İşlemleri
BEGIN:VEVENT
DTSTART:20240827T000000
DTEND:
SUMMARY:2-6 Eylül 2024 Kayıt Yenileme İşlemleri
DESCRIPTION:
LOCATION:
END:VEVENT
END:VCALENDAR
