BEGIN:VCALENDAR
VERSION:2.0
PRODID:-//T.C. İstanbul Şişli Meslek Yüksekokulu
CALSCALE:GREGORIAN
METHOD:PUBLISH
X-WR-CALNAME:T.C. İstanbul Şişli Meslek Yüksekokulu
X-ORIGINAL-URL:https://www.sisli.edu.tr/paylasim/2023-2024-yaz-okulu-final-mazeret-sinavlari-hk/
X-WR-CALDESC:2023-2024 Yaz Okulu Final Mazeret Sınavları Hk.
BEGIN:VEVENT
DTSTART:20240826T000000
DTEND:
SUMMARY:2023-2024 Yaz Okulu Final Mazeret Sınavları Hk.
DESCRIPTION:
LOCATION:
END:VEVENT
END:VCALENDAR
