BEGIN:VCALENDAR
VERSION:2.0
PRODID:-//T.C. İstanbul Şişli Meslek Yüksekokulu
CALSCALE:GREGORIAN
METHOD:PUBLISH
X-WR-CALNAME:T.C. İstanbul Şişli Meslek Yüksekokulu
X-ORIGINAL-URL:https://www.sisli.edu.tr/paylasim/2024-yks-kayit-duyurusu-hk/
X-WR-CALDESC:2024-YKS Kayıt Duyurusu Hk.
BEGIN:VEVENT
DTSTART:20240815T000000
DTEND:
SUMMARY:2024-YKS Kayıt Duyurusu Hk.
DESCRIPTION:
LOCATION:
END:VEVENT
END:VCALENDAR
