BEGIN:VCALENDAR
VERSION:2.0
PRODID:-//T.C. İstanbul Şişli Meslek Yüksekokulu
CALSCALE:GREGORIAN
METHOD:PUBLISH
X-WR-CALNAME:T.C. İstanbul Şişli Meslek Yüksekokulu
X-ORIGINAL-URL:https://www.sisli.edu.tr/paylasim/7146/
X-WR-CALDESC:2023-2024 Yaz Okulu Ara Sınav Mazeret Sınavı Başvuru Sonuçları
BEGIN:VEVENT
DTSTART:20240809T000000
DTEND:
SUMMARY:2023-2024 Yaz Okulu Ara Sınav Mazeret Sınavı Başvuru Sonuçları
DESCRIPTION:
LOCATION:
END:VEVENT
END:VCALENDAR
