BEGIN:VCALENDAR
VERSION:2.0
PRODID:-//T.C. İstanbul Şişli Meslek Yüksekokulu
CALSCALE:GREGORIAN
METHOD:PUBLISH
X-WR-CALNAME:T.C. İstanbul Şişli Meslek Yüksekokulu
X-ORIGINAL-URL:https://www.sisli.edu.tr/paylasim/2024-2025-egitim-ogretim-yili-guz-yariyili-yatay-gecis-basvurulari/
X-WR-CALDESC:2024-2025 EĞİTİM-ÖĞRETİM YILI GÜZ YARIYILI  YATAY GEÇİŞ BAŞVURULARI
BEGIN:VEVENT
DTSTART:20240717T000000
DTEND:
SUMMARY:2024-2025 EĞİTİM-ÖĞRETİM YILI GÜZ YARIYILI  YATAY GEÇİŞ BAŞVURULARI
DESCRIPTION:
LOCATION:
END:VEVENT
END:VCALENDAR
