BEGIN:VCALENDAR
VERSION:2.0
PRODID:-//T.C. İstanbul Şişli Meslek Yüksekokulu
CALSCALE:GREGORIAN
METHOD:PUBLISH
X-WR-CALNAME:T.C. İstanbul Şişli Meslek Yüksekokulu
X-ORIGINAL-URL:https://www.sisli.edu.tr/paylasim/medical-park-hastanesi-ile-ilk-ve-acil-yardim-bulusmasi/
X-WR-CALDESC:Medical Park Hastanesi ile  İlk ve Acil Yardım Buluşması
BEGIN:VEVENT
DTSTART:20240528T000000
DTEND:
SUMMARY:Medical Park Hastanesi ile  İlk ve Acil Yardım Buluşması
DESCRIPTION:
LOCATION:
END:VEVENT
END:VCALENDAR
