BEGIN:VCALENDAR
VERSION:2.0
PRODID:-//T.C. İstanbul Şişli Meslek Yüksekokulu
CALSCALE:GREGORIAN
METHOD:PUBLISH
X-WR-CALNAME:T.C. İstanbul Şişli Meslek Yüksekokulu
X-ORIGINAL-URL:https://www.sisli.edu.tr/paylasim/2023-2024-akademik-yili-bahar-yariyili-final-sinav-programi-hk/
X-WR-CALDESC:2023-2024 Akademik Yılı Bahar Yarıyılı Final Sınav Programı Hk.
BEGIN:VEVENT
DTSTART:20240520T003000
DTEND:
SUMMARY:2023-2024 Akademik Yılı Bahar Yarıyılı Final Sınav Programı Hk.
DESCRIPTION:
LOCATION:
END:VEVENT
END:VCALENDAR
