BEGIN:VCALENDAR
VERSION:2.0
PRODID:-//T.C. İstanbul Şişli Meslek Yüksekokulu
CALSCALE:GREGORIAN
METHOD:PUBLISH
X-WR-CALNAME:T.C. İstanbul Şişli Meslek Yüksekokulu
X-ORIGINAL-URL:https://www.sisli.edu.tr/paylasim/2023-2024-akademik-yili-icin-erasmus-personel-hareketliligi-egitim-alma-basvurulari/
X-WR-CALDESC:2023-2024 AKADEMİK YILI İÇİN ERASMUS+ PERSONEL HAREKETLİLİĞİ EĞİTİM ALMA BAŞVURULARI
BEGIN:VEVENT
DTSTART:20240424T010000
DTEND:
SUMMARY:2023-2024 AKADEMİK YILI İÇİN ERASMUS+ PERSONEL HAREKETLİLİĞİ EĞİTİM ALMA BAŞVURULARI
DESCRIPTION:
LOCATION:
END:VEVENT
END:VCALENDAR
