BEGIN:VCALENDAR
VERSION:2.0
PRODID:-//T.C. İstanbul Şişli Meslek Yüksekokulu
CALSCALE:GREGORIAN
METHOD:PUBLISH
X-WR-CALNAME:T.C. İstanbul Şişli Meslek Yüksekokulu
X-ORIGINAL-URL:https://www.sisli.edu.tr/paylasim/dgs-ve-kpss-bilgilendirme-semineri/
X-WR-CALDESC:DGS ve KPSS Bilgilendirme Semineri
BEGIN:VEVENT
DTSTART:20240325T003000
DTEND:
SUMMARY:DGS ve KPSS Bilgilendirme Semineri
DESCRIPTION:
LOCATION:
END:VEVENT
END:VCALENDAR
