BEGIN:VCALENDAR
VERSION:2.0
PRODID:-//T.C. İstanbul Şişli Meslek Yüksekokulu
CALSCALE:GREGORIAN
METHOD:PUBLISH
X-WR-CALNAME:T.C. İstanbul Şişli Meslek Yüksekokulu
X-ORIGINAL-URL:https://www.sisli.edu.tr/paylasim/iskur-ile-is-arama-becerileri-semineri/
X-WR-CALDESC:İşkur ile İş Arama Becerileri Semineri
BEGIN:VEVENT
DTSTART:20240326T133000
DTEND:
SUMMARY:İşkur ile İş Arama Becerileri Semineri
DESCRIPTION:
LOCATION:
END:VEVENT
END:VCALENDAR
