BEGIN:VCALENDAR
VERSION:2.0
PRODID:-//T.C. İstanbul Şişli Meslek Yüksekokulu
CALSCALE:GREGORIAN
METHOD:PUBLISH
X-WR-CALNAME:T.C. İstanbul Şişli Meslek Yüksekokulu
X-ORIGINAL-URL:https://www.sisli.edu.tr/paylasim/eng1002-yabanci-dil-ii-muafiyet-sinav-sonuclari-hk/
X-WR-CALDESC:ENG1002 Yabancı Dil II Muafiyet Sınav Sonuçları Hk.
BEGIN:VEVENT
DTSTART:20240307T000000
DTEND:
SUMMARY:ENG1002 Yabancı Dil II Muafiyet Sınav Sonuçları Hk.
DESCRIPTION:
LOCATION:
END:VEVENT
END:VCALENDAR
