BEGIN:VCALENDAR
VERSION:2.0
PRODID:-//T.C. İstanbul Şişli Meslek Yüksekokulu
CALSCALE:GREGORIAN
METHOD:PUBLISH
X-WR-CALNAME:T.C. İstanbul Şişli Meslek Yüksekokulu
X-ORIGINAL-URL:https://www.sisli.edu.tr/paylasim/ingilizce-hazirlik-muafiyet-ve-seviye-tespit-sinavi-sonuclari-hk/
X-WR-CALDESC:İngilizce Hazırlık Muafiyet ve Seviye Tespit Sınavı Sonuçları Hk.
BEGIN:VEVENT
DTSTART:20240305T000000
DTEND:
SUMMARY:İngilizce Hazırlık Muafiyet ve Seviye Tespit Sınavı Sonuçları Hk.
DESCRIPTION:
LOCATION:
END:VEVENT
END:VCALENDAR
