BEGIN:VCALENDAR
VERSION:2.0
PRODID:-//T.C. İstanbul Şişli Meslek Yüksekokulu
CALSCALE:GREGORIAN
METHOD:PUBLISH
X-WR-CALNAME:T.C. İstanbul Şişli Meslek Yüksekokulu
X-ORIGINAL-URL:https://www.sisli.edu.tr/paylasim/kariyer-gunleri-hk/
X-WR-CALDESC:İlhan Veren konuşmalar &#8211; Kariyer Günleri Hk.
BEGIN:VEVENT
DTSTART:20240305T000000
DTEND:
SUMMARY:İlhan Veren konuşmalar &#8211; Kariyer Günleri Hk.
DESCRIPTION:
LOCATION:
END:VEVENT
END:VCALENDAR
