BEGIN:VCALENDAR
VERSION:2.0
PRODID:-//T.C. İstanbul Şişli Meslek Yüksekokulu
CALSCALE:GREGORIAN
METHOD:PUBLISH
X-WR-CALNAME:T.C. İstanbul Şişli Meslek Yüksekokulu
X-ORIGINAL-URL:https://www.sisli.edu.tr/paylasim/2023-2024-egitim-ogretim-yili-bahar-yariyili-eng1002-yabanci-dil-ii-muafiyet-sinav-programi/
X-WR-CALDESC:2023-2024 Eğitim-Öğretim Yılı Bahar Yarıyılı ENG1002 Yabancı Dil-II Muafiyet Sınav Programı
BEGIN:VEVENT
DTSTART:20240228T000000
DTEND:
SUMMARY:2023-2024 Eğitim-Öğretim Yılı Bahar Yarıyılı ENG1002 Yabancı Dil-II Muafiyet Sınav Programı
DESCRIPTION:
LOCATION:
END:VEVENT
END:VCALENDAR
